BEGIN:VCALENDAR
VERSION:2.0
PRODID:-//Rotary Club Of Warwick - ECPv4.9.4//NONSGML v1.0//EN
CALSCALE:GREGORIAN
METHOD:PUBLISH
X-WR-CALNAME:Rotary Club Of Warwick
X-ORIGINAL-URL:https://www.warwickrotary.org.uk
X-WR-CALDESC:Events for Rotary Club Of Warwick
BEGIN:VTIMEZONE
TZID:"UTC"
BEGIN:STANDARD
TZOFFSETFROM:+0000
TZOFFSETTO:+0000
TZNAME:UTC
DTSTART:20220101T000000
END:STANDARD
END:VTIMEZONE
BEGIN:VEVENT
DTSTART;TZID="UTC":20220309T183000
DTEND;TZID="UTC":20220309T203000
DTSTAMP:20260421T174354
CREATED:20220221T150941Z
LAST-MODIFIED:20220221T151232Z
UID:8524-1646850600-1646857800@www.warwickrotary.org.uk
SUMMARY:2022 FOCUS ON ROTARY TOUR
DESCRIPTION:Organised by Rotary Charity Global Sight Solutions to mark the centenary of 55 clubs in the UK. \nRotarian John Miles will be speaking at our meeting to raise the profile of Rotary in the UK . \nAll are welcome to attend and find out what Rotary does. \nRotarians help those in need\, both domestically and internationally\, via the following seven Areas of Focus:- Peacebuilding and conflict prevention\, disease prevention and treatment\, water sanitation and hygiene\, maternal and child health\, basic education and literacy\, community economic development and the environment. \nYou’ll also hear about the amazing humanitarian work which Global Sight Solutions undertakes. \nGlobal Sight Solutions establishes top quality eye hospitals in the developing world which provide free eye care to the world poorest. You’ll hear about their plans for their 2023 Challenge – a 6\,000 mile Car Rally across Europe and Africa to raise awareness of Rotary and funds for GSS’s work. \nWarwick Rotary is hosting the evening at Delta Marriott Hotel in Warwick – formerly the Hilton\, with a buffet evening open to all\, cost £11 at 6.30 for 7pm. You are welcome to join us – contact Keith Talbot at kwgtalbot@btinternet.com to reserve a place. \n
URL:https://www.warwickrotary.org.uk/event/2022-focus-on-rotary-tour/
LOCATION:Delta Marriott\, formerly Warwick Hilton\, Stratford Road\, Warwick\, CV34 6RE
END:VEVENT
END:VCALENDAR