BEGIN:VCALENDAR
VERSION:2.0
PRODID:-//Rotary Club Of Warwick - ECPv4.9.4//NONSGML v1.0//EN
CALSCALE:GREGORIAN
METHOD:PUBLISH
X-WR-CALNAME:Rotary Club Of Warwick
X-ORIGINAL-URL:https://www.warwickrotary.org.uk
X-WR-CALDESC:Events for Rotary Club Of Warwick
BEGIN:VTIMEZONE
TZID:"UTC"
BEGIN:STANDARD
TZOFFSETFROM:+0000
TZOFFSETTO:+0000
TZNAME:UTC
DTSTART:20190101T000000
END:STANDARD
END:VTIMEZONE
BEGIN:VEVENT
DTSTART;TZID="UTC":20191128T180000
DTEND;TZID="UTC":20191128T210000
DTSTAMP:20260422T030628
CREATED:20190905T143252Z
LAST-MODIFIED:20190905T143408Z
UID:6929-1574964000-1574974800@www.warwickrotary.org.uk
SUMMARY:Warwick Victorian Evening
DESCRIPTION:Warwick Victorian Evening.   A fun evening\, with many people dressed to suit the occasion \nDuring the evening the Warwick Christmas Lights will be switched on\, and in particular the Christmas Tree in the square will be illuminated for the start of the Lights of Love campaign\, which gives people the opportunity to remember loved ones over the Christmas period. \nThe Rotary Club will also have their usual stall\, dispensing hot punch to keep out the cold weather. \n
URL:https://www.warwickrotary.org.uk/event/6929/
LOCATION:Market Place\, Warwick\, CV34 4SA\, United Kingdom
CATEGORIES:Outside event
END:VEVENT
END:VCALENDAR