BEGIN:VCALENDAR
VERSION:2.0
PRODID:-//Rotary Club Of Warwick - ECPv4.9.4//NONSGML v1.0//EN
CALSCALE:GREGORIAN
METHOD:PUBLISH
X-WR-CALNAME:Rotary Club Of Warwick
X-ORIGINAL-URL:https://www.warwickrotary.org.uk
X-WR-CALDESC:Events for Rotary Club Of Warwick
BEGIN:VTIMEZONE
TZID:"UTC"
BEGIN:STANDARD
TZOFFSETFROM:+0000
TZOFFSETTO:+0000
TZNAME:UTC
DTSTART:20200101T000000
END:STANDARD
END:VTIMEZONE
BEGIN:VEVENT
DTSTART;TZID="UTC":20200325T123000
DTEND;TZID="UTC":20200325T140000
DTSTAMP:20260421T233205
CREATED:20200302T155233Z
LAST-MODIFIED:20200302T155318Z
UID:7799-1585139400-1585144800@www.warwickrotary.org.uk
SUMMARY:Club Lunchtime Meeting
DESCRIPTION:Monthly Business Meeting \n  \n  \nStewards – Paul Jaspal\, Camille Sethi\, Chris Wild \n
URL:https://www.warwickrotary.org.uk/event/7799/
LOCATION:Delta Marriott\, formerly Warwick Hilton\, Stratford Road\, Warwick\, CV34 6RE
CATEGORIES:Club Lunchtime Meeting
END:VEVENT
END:VCALENDAR