BEGIN:VCALENDAR
VERSION:2.0
PRODID:-//Rotary Club Of Warwick - ECPv4.9.4//NONSGML v1.0//EN
CALSCALE:GREGORIAN
METHOD:PUBLISH
X-WR-CALNAME:Rotary Club Of Warwick
X-ORIGINAL-URL:https://www.warwickrotary.org.uk
X-WR-CALDESC:Events for Rotary Club Of Warwick
BEGIN:VTIMEZONE
TZID:"UTC"
BEGIN:STANDARD
TZOFFSETFROM:+0000
TZOFFSETTO:+0000
TZNAME:UTC
DTSTART:20200101T000000
END:STANDARD
END:VTIMEZONE
BEGIN:VEVENT
DTSTART;TZID="UTC":20200722T130000
DTEND;TZID="UTC":20200722T140000
DTSTAMP:20260421T212537
CREATED:20200710T144550Z
LAST-MODIFIED:20200710T145009Z
UID:7971-1595422800-1595426400@www.warwickrotary.org.uk
SUMMARY:Club Monthly Business Meeting on Zoom
DESCRIPTION:Today it is the Monthly Business Meeting. \n  \n  \nDue to the Covid-19 Pendemic\, this will be a virtual meeting on Zoom but it is open to all.   Should you wish to join us you will be very welcome. Please contact the club secretary\, Jackie Crampton\, on 01926 492496 for the details. \n  \n  \n
URL:https://www.warwickrotary.org.uk/event/7971/
LOCATION:A Virtual Meeting
CATEGORIES:Club weekly virtual meeting
END:VEVENT
END:VCALENDAR