BEGIN:VCALENDAR
VERSION:2.0
PRODID:-//Rotary Club Of Warwick - ECPv4.9.4//NONSGML v1.0//EN
CALSCALE:GREGORIAN
METHOD:PUBLISH
X-WR-CALNAME:Rotary Club Of Warwick
X-ORIGINAL-URL:https://www.warwickrotary.org.uk
X-WR-CALDESC:Events for Rotary Club Of Warwick
BEGIN:VTIMEZONE
TZID:"UTC"
BEGIN:STANDARD
TZOFFSETFROM:+0000
TZOFFSETTO:+0000
TZNAME:UTC
DTSTART:20180101T000000
END:STANDARD
END:VTIMEZONE
BEGIN:VEVENT
DTSTART;TZID="UTC":20180530T193000
DTEND;TZID="UTC":20180530T220000
DTSTAMP:20260422T170348
CREATED:20180408T072629Z
LAST-MODIFIED:20180413T131535Z
UID:5583-1527708600-1527717600@www.warwickrotary.org.uk
SUMMARY:Evening Meeting
DESCRIPTION:An evening meeting\, which is open to members and guests. \nThe speaker will be Professor Harvey Nichols (Department of Environmental Biology\, University of Colorado and his talk is entitled ‘Nuclear Pollution’ – with the sub-title “Dark doings at a nuclear weapons plant in Colorado: a mystery partially solved”. \nHe will use his experiences in his work at Rocky Flats to discuss Politics and society in the USA.   Production at the Rocky Flats plant was temporarily halted in 1989 after EPA and FBI agents raided the facility.   Operators of the plant later pleaded guilty to criminal violations of environmental law.   At the time\, the fine was one of the largest penalties ever in an environmental law case. \nClean-up began in the early 1990s and the site achieved regulatory closure in 2006. \n
URL:https://www.warwickrotary.org.uk/event/an-open-evening-meeting/
LOCATION:Hilton Hotel\, Stratford Road\, Warwick\, CV34 6RE
CATEGORIES:Club Evening Meeting
END:VEVENT
END:VCALENDAR