BEGIN:VCALENDAR
VERSION:2.0
PRODID:-//Rotary Club Of Warwick - ECPv4.9.4//NONSGML v1.0//EN
CALSCALE:GREGORIAN
METHOD:PUBLISH
X-WR-CALNAME:Rotary Club Of Warwick
X-ORIGINAL-URL:https://www.warwickrotary.org.uk
X-WR-CALDESC:Events for Rotary Club Of Warwick
BEGIN:VTIMEZONE
TZID:"UTC"
BEGIN:STANDARD
TZOFFSETFROM:+0000
TZOFFSETTO:+0000
TZNAME:UTC
DTSTART:20220101T000000
END:STANDARD
END:VTIMEZONE
BEGIN:VEVENT
DTSTART;TZID="UTC":20220209T183000
DTEND;TZID="UTC":20220209T213000
DTSTAMP:20260421T162653
CREATED:20220127T150537Z
LAST-MODIFIED:20220127T150723Z
UID:8483-1644431400-1644442200@www.warwickrotary.org.uk
SUMMARY:Award evening for 2nd Warwick Sea Scouts and Open evening
DESCRIPTION:We will be presenting the International Scouting Rotarians Award to 2nd Warwick Sea Scouts. \nAll are welcome to attend – please call in advance if you can for our numbers! \nBuffet evening. \n
URL:https://www.warwickrotary.org.uk/event/award-evening-for-2nd-warwick-sea-scouts-and-open-evening/
LOCATION:Delta Marriott\, formerly Warwick Hilton\, Stratford Road\, Warwick\, CV34 6RE
END:VEVENT
END:VCALENDAR