BEGIN:VCALENDAR
VERSION:2.0
PRODID:-//Rotary Club Of Warwick - ECPv4.9.4//NONSGML v1.0//EN
CALSCALE:GREGORIAN
METHOD:PUBLISH
X-WR-CALNAME:Rotary Club Of Warwick
X-ORIGINAL-URL:https://www.warwickrotary.org.uk
X-WR-CALDESC:Events for Rotary Club Of Warwick
BEGIN:VTIMEZONE
TZID:"UTC"
BEGIN:STANDARD
TZOFFSETFROM:+0000
TZOFFSETTO:+0000
TZNAME:UTC
DTSTART:20140101T000000
END:STANDARD
END:VTIMEZONE
BEGIN:VEVENT
DTSTART;TZID="UTC":20141220T180000
DTEND;TZID="UTC":20141220T210000
DTSTAMP:20260423T235133
CREATED:20140226T173754Z
LAST-MODIFIED:20141215T190513Z
UID:1425-1419098400-1419109200@www.warwickrotary.org.uk
SUMMARY:Carols at the Castle
DESCRIPTION:This year’s event at Warwick Castle will be held on Saturday December 20th 2014 \n \n  \nTickets are still available for the annual carol concert staged at Warwick Castle which is being held this Saturday\, 20th December. This spectacular event held every December has become an established highlight of the festive calendar staged by the Warwick Lions Club\, Rotary Club of Warwick and Friends of St Mary’s Choir. \nA crowd of over 2\,500 is anticipated to the concert\, which has standing room only.  It is suggested that you wrap up warm\, and hot soup\, mulled wine and mince pies are available to keep off the night air. \nThe concert will be compered by Annie Othen of BBC Coventry and Warwickshire radio and features the Choir of St Mary’s Church\, accompanied by Royal Spa Brass. \nTickets are still available at the castle ticket office\, or at Warwick Tourist Information Centre.  Tickets are £7.00 each (£1 per child)\, and all proceeds go to charity and other causes. \nGates open at 6.45pm and the Carol Service starts at 7.30pm. \n  \n  \n  \n  \nFull details can be found by visiting  the Castle site \n  \n  \n
URL:https://www.warwickrotary.org.uk/event/carols-at-the-castle-2/
END:VEVENT
END:VCALENDAR