BEGIN:VCALENDAR
VERSION:2.0
PRODID:-//Rotary Club Of Warwick - ECPv4.9.4//NONSGML v1.0//EN
CALSCALE:GREGORIAN
METHOD:PUBLISH
X-WR-CALNAME:Rotary Club Of Warwick
X-ORIGINAL-URL:https://www.warwickrotary.org.uk
X-WR-CALDESC:Events for Rotary Club Of Warwick
BEGIN:VTIMEZONE
TZID:"UTC"
BEGIN:STANDARD
TZOFFSETFROM:+0000
TZOFFSETTO:+0000
TZNAME:UTC
DTSTART:20160101T000000
END:STANDARD
END:VTIMEZONE
BEGIN:VEVENT
DTSTART;TZID="UTC":20161211T160000
DTEND;TZID="UTC":20161211T164500
DTSTAMP:20260423T061540
CREATED:20161205T170607Z
LAST-MODIFIED:20161205T172200Z
UID:4227-1481472000-1481474700@www.warwickrotary.org.uk
SUMMARY:Carols in the Market Square
DESCRIPTION:Warwick Mayor Cllr Christine Cross invites residents of Warwick to join her this Sunday\, December 11th\, in Warwick Market Square where a service of dedication will be held for the Lights of Love on the town Christmas tree. \nA short carol service will be held at 4pm in the square\, accompanied by Warwick Community Band and children from Newburgh School. The service will be led by the Vicar of St Mary’s\, Rev Vaughan Roberts and the Mayor will be accompanied by John Taylor\, President of the Rotary Club of Warwick. \nThe Christmas tree donated by Barns Close Nursery is now covered with cards donated by people remembering loved ones and will be left up until Jan 6th.  \nIf you would like to place a card on the tree please complete a form and return to the Tourist Office\, Claridges or the Post Office in Warwick. You can download a form here. \nProceeds will be shared between the Mayor’s charities and Myton Hospice. Names of those remembered on the tree are shown next to the tree\, and on the Rotary website www.warwickrotary.org.uk.  \n
URL:https://www.warwickrotary.org.uk/event/carols-in-the-market-square/
LOCATION:Market Square
CATEGORIES:Outside event
END:VEVENT
END:VCALENDAR