BEGIN:VCALENDAR
VERSION:2.0
PRODID:-//Rotary Club Of Warwick - ECPv4.9.4//NONSGML v1.0//EN
CALSCALE:GREGORIAN
METHOD:PUBLISH
X-WR-CALNAME:Rotary Club Of Warwick
X-ORIGINAL-URL:https://www.warwickrotary.org.uk
X-WR-CALDESC:Events for Rotary Club Of Warwick
BEGIN:VTIMEZONE
TZID:"UTC"
BEGIN:STANDARD
TZOFFSETFROM:+0000
TZOFFSETTO:+0000
TZNAME:UTC
DTSTART:20230101T000000
END:STANDARD
END:VTIMEZONE
BEGIN:VEVENT
DTSTART;TZID="UTC":20231213T183000
DTEND;TZID="UTC":20231213T203000
DTSTAMP:20260421T180549
CREATED:20231029T125113Z
LAST-MODIFIED:20231029T125113Z
UID:9068-1702492200-1702499400@www.warwickrotary.org.uk
SUMMARY:Christmas meal
DESCRIPTION:Club Christmas meal – an evening for friends and frivolity \nPlease let us know if you will be joining us. \n
URL:https://www.warwickrotary.org.uk/event/christmas-meal/
LOCATION:Delta Marriott\, formerly Warwick Hilton\, Stratford Road\, Warwick\, CV34 6RE
CATEGORIES:Club Early Evening Meeting
END:VEVENT
END:VCALENDAR