BEGIN:VCALENDAR
VERSION:2.0
PRODID:-//Rotary Club Of Warwick - ECPv4.9.4//NONSGML v1.0//EN
CALSCALE:GREGORIAN
METHOD:PUBLISH
X-WR-CALNAME:Rotary Club Of Warwick
X-ORIGINAL-URL:https://www.warwickrotary.org.uk
X-WR-CALDESC:Events for Rotary Club Of Warwick
BEGIN:VTIMEZONE
TZID:"UTC"
BEGIN:STANDARD
TZOFFSETFROM:+0000
TZOFFSETTO:+0000
TZNAME:UTC
DTSTART:20220101T000000
END:STANDARD
END:VTIMEZONE
BEGIN:VEVENT
DTSTART;TZID="UTC":20220504T120000
DTEND;TZID="UTC":20220504T150000
DTSTAMP:20260421T174607
CREATED:20220328T110027Z
LAST-MODIFIED:20220328T110027Z
UID:8567-1651665600-1651676400@www.warwickrotary.org.uk
SUMMARY:Church Farm Brewery visit
DESCRIPTION: \n
URL:https://www.warwickrotary.org.uk/event/church-farm-brewery-visit/
LOCATION:Church Farm Brewery\, Budbroke\, Budroke\, Warwick\, CV35 8QL
CATEGORIES:Club Lunchtime Meeting
END:VEVENT
END:VCALENDAR