BEGIN:VCALENDAR
VERSION:2.0
PRODID:-//Rotary Club Of Warwick - ECPv4.9.4//NONSGML v1.0//EN
CALSCALE:GREGORIAN
METHOD:PUBLISH
X-WR-CALNAME:Rotary Club Of Warwick
X-ORIGINAL-URL:https://www.warwickrotary.org.uk
X-WR-CALDESC:Events for Rotary Club Of Warwick
BEGIN:VTIMEZONE
TZID:"UTC"
BEGIN:STANDARD
TZOFFSETFROM:+0000
TZOFFSETTO:+0000
TZNAME:UTC
DTSTART:20220101T000000
END:STANDARD
END:VTIMEZONE
BEGIN:VEVENT
DTSTART;TZID="UTC":20221116T123000
DTEND;TZID="UTC":20221116T140000
DTSTAMP:20260421T123347
CREATED:20220817T075843Z
LAST-MODIFIED:20220817T075856Z
UID:8649-1668601800-1668607200@www.warwickrotary.org.uk
SUMMARY:Civic Lunch
DESCRIPTION:Civic lunch 2021 Mayor Cllr Richard Edgington \nClub invites the new Mayor of Warwick – Cllr Parminder Singh Birdi\, and Town Clerk Mrs Jayne Topham to join them for lunch. \n
URL:https://www.warwickrotary.org.uk/event/civic-lunch/
LOCATION:Delta Marriott\, formerly Warwick Hilton\, Stratford Road\, Warwick\, CV34 6RE
CATEGORIES:Club Lunchtime Meeting
END:VEVENT
END:VCALENDAR