BEGIN:VCALENDAR
VERSION:2.0
PRODID:-//Rotary Club Of Warwick - ECPv4.9.4//NONSGML v1.0//EN
CALSCALE:GREGORIAN
METHOD:PUBLISH
X-WR-CALNAME:Rotary Club Of Warwick
X-ORIGINAL-URL:https://www.warwickrotary.org.uk
X-WR-CALDESC:Events for Rotary Club Of Warwick
BEGIN:VTIMEZONE
TZID:"UTC"
BEGIN:STANDARD
TZOFFSETFROM:+0000
TZOFFSETTO:+0000
TZNAME:UTC
DTSTART:20230101T000000
END:STANDARD
END:VTIMEZONE
BEGIN:VEVENT
DTSTART;TZID="UTC":20230524T123000
DTEND;TZID="UTC":20230524T143000
DTSTAMP:20260421T192131
CREATED:20230303T153742Z
LAST-MODIFIED:20230303T153742Z
UID:8846-1684931400-1684938600@www.warwickrotary.org.uk
SUMMARY:Club AGM
DESCRIPTION:Club elects the officers for 2023-24 and reviews the year coming to a close at the end of July. \nAll welcome to come along and see what we do – you might want to lend a hand \n
URL:https://www.warwickrotary.org.uk/event/club-agm/
LOCATION:Delta Marriott\, formerly Warwick Hilton\, Stratford Road\, Warwick
CATEGORIES:Club Lunchtime Meeting
END:VEVENT
END:VCALENDAR