BEGIN:VCALENDAR
VERSION:2.0
PRODID:-//Rotary Club Of Warwick - ECPv4.9.4//NONSGML v1.0//EN
CALSCALE:GREGORIAN
METHOD:PUBLISH
X-WR-CALNAME:Rotary Club Of Warwick
X-ORIGINAL-URL:https://www.warwickrotary.org.uk
X-WR-CALDESC:Events for Rotary Club Of Warwick
BEGIN:VTIMEZONE
TZID:"UTC"
BEGIN:STANDARD
TZOFFSETFROM:+0000
TZOFFSETTO:+0000
TZNAME:UTC
DTSTART:20230101T000000
END:STANDARD
END:VTIMEZONE
BEGIN:VEVENT
DTSTART;TZID="UTC":20230823T123000
DTEND;TZID="UTC":20230823T140000
DTSTAMP:20260421T231149
CREATED:20230727T170643Z
LAST-MODIFIED:20230727T170652Z
UID:8987-1692793800-1692799200@www.warwickrotary.org.uk
SUMMARY:Club Business meeting
DESCRIPTION:Club meets to review it’s projects. \nAll welcome to find out what we do. \n
URL:https://www.warwickrotary.org.uk/event/club-business-meeting-4/
LOCATION:Delta Marriott\, formerly Warwick Hilton\, Stratford Road\, Warwick\, CV34 6RE
CATEGORIES:Club Lunchtime Meeting
END:VEVENT
END:VCALENDAR