BEGIN:VCALENDAR
VERSION:2.0
PRODID:-//Rotary Club Of Warwick - ECPv4.9.4//NONSGML v1.0//EN
CALSCALE:GREGORIAN
METHOD:PUBLISH
X-WR-CALNAME:Rotary Club Of Warwick
X-ORIGINAL-URL:https://www.warwickrotary.org.uk
X-WR-CALDESC:Events for Rotary Club Of Warwick
BEGIN:VTIMEZONE
TZID:"UTC"
BEGIN:STANDARD
TZOFFSETFROM:+0000
TZOFFSETTO:+0000
TZNAME:UTC
DTSTART:20230101T000000
END:STANDARD
END:VTIMEZONE
BEGIN:VEVENT
DTSTART;TZID="UTC":20231122T123000
DTEND;TZID="UTC":20231122T143000
DTSTAMP:20260421T213002
CREATED:20231029T123957Z
LAST-MODIFIED:20231029T123957Z
UID:9059-1700656200-1700663400@www.warwickrotary.org.uk
SUMMARY:Club Business meeting
DESCRIPTION:Regular monthly meeting to discuss progress with our projects. \nAll welcome to join us and find out what we are up to. \n
URL:https://www.warwickrotary.org.uk/event/club-business-meeting-5/
LOCATION:Delta Marriott\, formerly Warwick Hilton\, Stratford Road\, Warwick\, CV34 6RE
CATEGORIES:Club Lunchtime Meeting
END:VEVENT
END:VCALENDAR