BEGIN:VCALENDAR
VERSION:2.0
PRODID:-//Rotary Club Of Warwick - ECPv4.9.4//NONSGML v1.0//EN
CALSCALE:GREGORIAN
METHOD:PUBLISH
X-WR-CALNAME:Rotary Club Of Warwick
X-ORIGINAL-URL:https://www.warwickrotary.org.uk
X-WR-CALDESC:Events for Rotary Club Of Warwick
BEGIN:VTIMEZONE
TZID:"UTC"
BEGIN:STANDARD
TZOFFSETFROM:+0000
TZOFFSETTO:+0000
TZNAME:UTC
DTSTART:20250101T000000
END:STANDARD
END:VTIMEZONE
BEGIN:VEVENT
DTSTART;TZID="UTC":20250122T123000
DTEND;TZID="UTC":20250122T140000
DTSTAMP:20260421T194702
CREATED:20250117T105533Z
LAST-MODIFIED:20250117T105533Z
UID:9459-1737549000-1737554400@www.warwickrotary.org.uk
SUMMARY:Club Business meeting
DESCRIPTION:Monthly meeting to discuss projects. \nAll welcome to join us – we have a hot lunch and then our meeting. \nWe are keen to get new members as we have a busy schedule! \n  \n  \n
URL:https://www.warwickrotary.org.uk/event/club-business-meeting-8/
LOCATION:Racehorse PH\, Stratford Road\, Warwick\, Stratford Road\, Warwick\, CV34 6AS
CATEGORIES:Club Lunchtime Meeting
END:VEVENT
END:VCALENDAR