BEGIN:VCALENDAR
VERSION:2.0
PRODID:-//Rotary Club Of Warwick - ECPv4.9.4//NONSGML v1.0//EN
CALSCALE:GREGORIAN
METHOD:PUBLISH
X-WR-CALNAME:Rotary Club Of Warwick
X-ORIGINAL-URL:https://www.warwickrotary.org.uk
X-WR-CALDESC:Events for Rotary Club Of Warwick
BEGIN:VTIMEZONE
TZID:"UTC"
BEGIN:STANDARD
TZOFFSETFROM:+0000
TZOFFSETTO:+0000
TZNAME:UTC
DTSTART:20250101T000000
END:STANDARD
END:VTIMEZONE
BEGIN:VEVENT
DTSTART;TZID="UTC":20250226T123000
DTEND;TZID="UTC":20250226T143000
DTSTAMP:20260421T231148
CREATED:20250205T170833Z
LAST-MODIFIED:20250205T170850Z
UID:9496-1740573000-1740580200@www.warwickrotary.org.uk
SUMMARY:Club Business Meeting
DESCRIPTION:Club monthly meeting to review our projects and finances. \nAll welcome to join us and find out what we are doing to help the local community. \n \n  \n
URL:https://www.warwickrotary.org.uk/event/club-business-meeting-9/
LOCATION:Racehorse PH\, Stratford Road\, Warwick\, Stratford Road\, Warwick\, CV34 6AS
CATEGORIES:Club Lunchtime Meeting
ORGANIZER;CN="Jon%20Wassall":MAILTO:j.wassall@btinternet.com
END:VEVENT
END:VCALENDAR