BEGIN:VCALENDAR
VERSION:2.0
PRODID:-//Rotary Club Of Warwick - ECPv4.9.4//NONSGML v1.0//EN
CALSCALE:GREGORIAN
METHOD:PUBLISH
X-WR-CALNAME:Rotary Club Of Warwick
X-ORIGINAL-URL:https://www.warwickrotary.org.uk
X-WR-CALDESC:Events for Rotary Club Of Warwick
BEGIN:VTIMEZONE
TZID:"UTC"
BEGIN:STANDARD
TZOFFSETFROM:+0000
TZOFFSETTO:+0000
TZNAME:UTC
DTSTART:20200101T000000
END:STANDARD
END:VTIMEZONE
BEGIN:VEVENT
DTSTART;TZID="UTC":20200108T183000
DTEND;TZID="UTC":20200108T200000
DTSTAMP:20260421T231113
CREATED:20200101T165202Z
LAST-MODIFIED:20200101T165202Z
UID:7549-1578508200-1578513600@www.warwickrotary.org.uk
SUMMARY:Club Early Evening Meeting
DESCRIPTION:The first meeting of 2020 is an Early Evening Meeting at The Hilton Hotel to which all are invited\, but especially those people who think that Rotary is an organisation that they may be interested in joining. \nCome along to meet some of our members and learn something of what we do within the community and overseas. \nThe speaker at this gathering will be Andy Bower from Warwick & Leamington Foodbank.   Should you wish to bring along anything for the food bank it will be gratefully received. \n
URL:https://www.warwickrotary.org.uk/event/club-early-evening-meeting-5/
LOCATION:Hilton Hotel\, Stratford Road\, Warwick\, CV34 6RE
CATEGORIES:Club Early Evening Meeting
END:VEVENT
END:VCALENDAR