BEGIN:VCALENDAR
VERSION:2.0
PRODID:-//Rotary Club Of Warwick - ECPv4.9.4//NONSGML v1.0//EN
CALSCALE:GREGORIAN
METHOD:PUBLISH
X-WR-CALNAME:Rotary Club Of Warwick
X-ORIGINAL-URL:https://www.warwickrotary.org.uk
X-WR-CALDESC:Events for Rotary Club Of Warwick
BEGIN:VTIMEZONE
TZID:"UTC"
BEGIN:STANDARD
TZOFFSETFROM:+0000
TZOFFSETTO:+0000
TZNAME:UTC
DTSTART:20200101T000000
END:STANDARD
END:VTIMEZONE
BEGIN:VEVENT
DTSTART;TZID="UTC":20200909T183000
DTEND;TZID="UTC":20200909T203000
DTSTAMP:20260421T213141
CREATED:20200831T080119Z
LAST-MODIFIED:20200831T080542Z
UID:8027-1599676200-1599683400@www.warwickrotary.org.uk
SUMMARY:Club Early Evening Meeting
DESCRIPTION:Warwick Rotary Club recognises the Achievements of Young People. \nOur speakers are two sisters  Ciara and Seanna Hamill from Kenilworth .  They rose to the Challenge posed By Covid 19 and started their own company to produce hand sanitiser when it was in very short supply.  Using their own initiative and showing great  determination their story is quite inspirational. They will give us an update on their activities. \nThey have since become involved with Rotaract\, Rotary’s counterpart for 18-30 years old and will tell us about the work they are doing in connection with this. \nMany of our young people  may be looking for opportunities  and suggestions  to become involved in voluntary work  both in their local communities and abroad\, especially following the announcement that many will be unable to start their  “Social” University experiences until later.  If you know a young person within this age group you could encourage them to  join our Zoom Meeting. \nWarwick enjoys giving a voice to young people who have a story to tell. \n  \nAll are welcome to join us and details for signing in can be obtained from Jackie Crampton on 01926 492496 \n  \n  \n  \n
URL:https://www.warwickrotary.org.uk/event/club-early-evening-meeting-7/
LOCATION:A Virtual Meeting
CATEGORIES:Club Early Evening Meeting
END:VEVENT
END:VCALENDAR