BEGIN:VCALENDAR
VERSION:2.0
PRODID:-//Rotary Club Of Warwick - ECPv4.9.4//NONSGML v1.0//EN
CALSCALE:GREGORIAN
METHOD:PUBLISH
X-WR-CALNAME:Rotary Club Of Warwick
X-ORIGINAL-URL:https://www.warwickrotary.org.uk
X-WR-CALDESC:Events for Rotary Club Of Warwick
BEGIN:VTIMEZONE
TZID:"UTC"
BEGIN:STANDARD
TZOFFSETFROM:+0000
TZOFFSETTO:+0000
TZNAME:UTC
DTSTART:20210101T000000
END:STANDARD
END:VTIMEZONE
BEGIN:VEVENT
DTSTART;TZID="UTC":20210210T183000
DTEND;TZID="UTC":20210210T200000
DTSTAMP:20260421T195116
CREATED:20210121T160641Z
LAST-MODIFIED:20210210T144749Z
UID:8215-1612981800-1612987200@www.warwickrotary.org.uk
SUMMARY:Club Early Evening Zoom Meeting
DESCRIPTION:The speaker at this early evening meeting will be Dr. Haydon Bailey. \nDr. Bailey is an industrial micropalaeontologist with over 35 years experience in the hydrocarbon exploration and production industry.  He started as a specialist in Cretaceous foraminifera with ongoing interests in the biostratigraphy of Late Cretaceous sequences throughout North West Europe and North Africa. Subsequently projects have ranged through Carboniferous to Holocene microfaunas. He is a specialist in Chalk field studies and high resolution stratigraphy of chalk reservoirs. \nHis talk will undoubtedly create great interest and is open to all.   The meeting starts at 6.30pm and joining instructions are below: \nMeeting ID: 895 8144 0147 \nPasscode: 320847 \n
URL:https://www.warwickrotary.org.uk/event/club-early-evening-zoom-meeting/
LOCATION:A Virtual Meeting
CATEGORIES:Club Early Evening Meeting
END:VEVENT
END:VCALENDAR