BEGIN:VCALENDAR
VERSION:2.0
PRODID:-//Rotary Club Of Warwick - ECPv4.9.4//NONSGML v1.0//EN
CALSCALE:GREGORIAN
METHOD:PUBLISH
X-WR-CALNAME:Rotary Club Of Warwick
X-ORIGINAL-URL:https://www.warwickrotary.org.uk
X-WR-CALDESC:Events for Rotary Club Of Warwick
BEGIN:VTIMEZONE
TZID:"UTC"
BEGIN:STANDARD
TZOFFSETFROM:+0000
TZOFFSETTO:+0000
TZNAME:UTC
DTSTART:20160101T000000
END:STANDARD
END:VTIMEZONE
BEGIN:VEVENT
DTSTART;TZID="UTC":20161130T193000
DTEND;TZID="UTC":20161130T220000
DTSTAMP:20260423T062636
CREATED:20161103T113857Z
LAST-MODIFIED:20161103T113857Z
UID:4035-1480534200-1480543200@www.warwickrotary.org.uk
SUMMARY:Club Evening Meeting
DESCRIPTION:This will be an evening meeting open to guests. \nThe main speaker will be Craig Warmington who is a project manager – as well as being an amateur pilot – and he will be talking about his work and the complications he meets\, and in particular his work with the 2nd Warwick Sea Scouts in their bid for new premises. \nThis promises to be an interesting evening and further details will be published in the next few days. \n
URL:https://www.warwickrotary.org.uk/event/club-evening-meeting-3/
LOCATION:Delta Marriott\, formerly Warwick Hilton\, Stratford Road\, Warwick\, CV34 6RE
CATEGORIES:Club Evening Meeting
END:VEVENT
END:VCALENDAR