BEGIN:VCALENDAR
VERSION:2.0
PRODID:-//Rotary Club Of Warwick - ECPv4.9.4//NONSGML v1.0//EN
CALSCALE:GREGORIAN
METHOD:PUBLISH
X-WR-CALNAME:Rotary Club Of Warwick
X-ORIGINAL-URL:https://www.warwickrotary.org.uk
X-WR-CALDESC:Events for Rotary Club Of Warwick
BEGIN:VTIMEZONE
TZID:"UTC"
BEGIN:STANDARD
TZOFFSETFROM:+0000
TZOFFSETTO:+0000
TZNAME:UTC
DTSTART:20200101T000000
END:STANDARD
END:VTIMEZONE
BEGIN:VEVENT
DTSTART;TZID="UTC":20200729T190000
DTEND;TZID="UTC":20200729T210000
DTSTAMP:20260421T213140
CREATED:20200710T150046Z
LAST-MODIFIED:20200710T150046Z
UID:7977-1596049200-1596056400@www.warwickrotary.org.uk
SUMMARY:Club Evening Meeting on Zoom
DESCRIPTION:This is an Evening Meeting and Fellowship event\, to which all our neighbouring clubs and friends are invited. \nThe speaker will be Sathvika Krishnan – from Bablake School\, Coventry\, who will be talking about “biodiversity loss\,& habitat destruction” \nSathvika is a talented young speaker who spoke at our District Conference in Nottingham about three years ago and greatly impressed the audience with her grasp of her subject. \n  \n  \n  \nDue to the Covid-19 Pendemic\, this will be a virtual meeting on Zoom but it is open to all.   Should you wish to join us you will be very welcome. Please contact the club secretary\, Jackie Crampton\, on 01926 492496 for the details. \n
URL:https://www.warwickrotary.org.uk/event/club-evening-meeting-on-zoom/
LOCATION:A Virtual Meeting
CATEGORIES:Club Evening Meeting
END:VEVENT
END:VCALENDAR