BEGIN:VCALENDAR
VERSION:2.0
PRODID:-//Rotary Club Of Warwick - ECPv4.9.4//NONSGML v1.0//EN
CALSCALE:GREGORIAN
METHOD:PUBLISH
X-WR-CALNAME:Rotary Club Of Warwick
X-ORIGINAL-URL:https://www.warwickrotary.org.uk
X-WR-CALDESC:Events for Rotary Club Of Warwick
BEGIN:VTIMEZONE
TZID:"UTC"
BEGIN:STANDARD
TZOFFSETFROM:+0000
TZOFFSETTO:+0000
TZNAME:UTC
DTSTART:20240101T000000
END:STANDARD
END:VTIMEZONE
BEGIN:VEVENT
DTSTART;TZID="UTC":20240626T123000
DTEND;TZID="UTC":20240626T140000
DTSTAMP:20260421T211745
CREATED:20240516T102929Z
LAST-MODIFIED:20240516T102929Z
UID:9224-1719405000-1719410400@www.warwickrotary.org.uk
SUMMARY:Club Handover
DESCRIPTION:President Alan Bailey will hand over his chain of office to Dick Dixon for 2024-25. \nAll welcome to join us for lunch \n
URL:https://www.warwickrotary.org.uk/event/club-handover/
LOCATION:Delta Marriott\, formerly Warwick Hilton\, Stratford Road\, Warwick
CATEGORIES:Club Lunchtime Meeting
END:VEVENT
END:VCALENDAR