BEGIN:VCALENDAR
VERSION:2.0
PRODID:-//Rotary Club Of Warwick - ECPv4.9.4//NONSGML v1.0//EN
CALSCALE:GREGORIAN
METHOD:PUBLISH
X-WR-CALNAME:Rotary Club Of Warwick
X-ORIGINAL-URL:https://www.warwickrotary.org.uk
X-WR-CALDESC:Events for Rotary Club Of Warwick
BEGIN:VTIMEZONE
TZID:"UTC"
BEGIN:STANDARD
TZOFFSETFROM:+0000
TZOFFSETTO:+0000
TZNAME:UTC
DTSTART:20200101T000000
END:STANDARD
END:VTIMEZONE
BEGIN:VEVENT
DTSTART;TZID="UTC":20200408T180000
DTEND;TZID="UTC":20200408T200000
DTSTAMP:20260421T231042
CREATED:20200302T173545Z
LAST-MODIFIED:20200310T112912Z
UID:7803-1586368800-1586376000@www.warwickrotary.org.uk
SUMMARY:Club Early Evening Meeting
DESCRIPTION:Sathvika Krishnan – Environmentalist\, is today’s speaker. \nSathvika is a year 13 student at Bablake Senior School\, Coventry where she is also the School Captain.   She received a full set of ten A*s/9s at GCSEs and was awarded her Gold Crest Award for her project on the behaviour of wood pigeons at the age of 14.\nCombining her passion for zoology and music\, Sathvika has written an Extended Project qualification on the musicality of birdsong and is intending to publish it. \nHer love for wildlife and the environment has led her to spread awareness of global issues like the effect of plastic pollution on the environment. \nAside from her academic accolades\, Sathvika is an avid musician.   She is a South lndian classical vocalist and a diploma-level pianist.   She was also the leader for the National Youth choir for lndian music and has won the SABRANG Musician of the Year Award \n  \nStewards – Carl Wimperis\, Hugh Smith\, Margaret Morley \n
URL:https://www.warwickrotary.org.uk/event/club-lunchtime-meeting-20/
LOCATION:Delta Marriott\, formerly Warwick Hilton\, Stratford Road\, Warwick\, CV34 6RE
CATEGORIES:Club Early Evening Meeting
END:VEVENT
END:VCALENDAR