BEGIN:VCALENDAR
VERSION:2.0
PRODID:-//Rotary Club Of Warwick - ECPv4.9.4//NONSGML v1.0//EN
CALSCALE:GREGORIAN
METHOD:PUBLISH
X-WR-CALNAME:Rotary Club Of Warwick
X-ORIGINAL-URL:https://www.warwickrotary.org.uk
X-WR-CALDESC:Events for Rotary Club Of Warwick
BEGIN:VTIMEZONE
TZID:"UTC"
BEGIN:STANDARD
TZOFFSETFROM:+0000
TZOFFSETTO:+0000
TZNAME:UTC
DTSTART:20200101T000000
END:STANDARD
END:VTIMEZONE
BEGIN:VEVENT
DTSTART;TZID="UTC":20200401T123000
DTEND;TZID="UTC":20200401T140000
DTSTAMP:20260422T010143
CREATED:20200303T122345Z
LAST-MODIFIED:20200309T100433Z
UID:7812-1585744200-1585749600@www.warwickrotary.org.uk
SUMMARY:Club Lunchtime Meeting
DESCRIPTION:The speaker today will be one of our newer members – Vivien Gillman.   Her subject will be – Life as a Bursar. \nAlthough new to our club\, Vivien has been heavily involved in Rotary since 2011\, when she joined the Godalming club in Surrey.   Since that time she has served as Secretary between 2014 and 2019\, although she did take a year off from 2016-2017 to serve as the Club President!   She was webmaster for her club for two years and also served on the District Committee before she and her husband\, Robert\, re-located to this area. \nShe joined Warwick Rotary towards the end of 2019 and since that time has proved to be a very active member\, bringing with her a wealth of experience from her previous club. \n  \n  \nStewards – Carl Wimperis\, Hugh Smith\, Margaret Morley \n
URL:https://www.warwickrotary.org.uk/event/club-lunchtime-meeting-22/
LOCATION:Delta Marriott\, formerly Warwick Hilton\, Stratford Road\, Warwick\, CV34 6RE
CATEGORIES:Club Lunchtime Meeting
END:VEVENT
END:VCALENDAR