BEGIN:VCALENDAR
VERSION:2.0
PRODID:-//Rotary Club Of Warwick - ECPv4.9.4//NONSGML v1.0//EN
CALSCALE:GREGORIAN
METHOD:PUBLISH
X-WR-CALNAME:Rotary Club Of Warwick
X-ORIGINAL-URL:https://www.warwickrotary.org.uk
X-WR-CALDESC:Events for Rotary Club Of Warwick
BEGIN:VTIMEZONE
TZID:"UTC"
BEGIN:STANDARD
TZOFFSETFROM:+0000
TZOFFSETTO:+0000
TZNAME:UTC
DTSTART:20190101T000000
END:STANDARD
END:VTIMEZONE
BEGIN:VEVENT
DTSTART;TZID="UTC":20190814T123000
DTEND;TZID="UTC":20190814T140000
DTSTAMP:20260422T061218
CREATED:20190729T162829Z
LAST-MODIFIED:20190730T104914Z
UID:6789-1565785800-1565791200@www.warwickrotary.org.uk
SUMMARY:Club Lunchtime Meeting
DESCRIPTION:The club will be visited by District Governor\, Bala Jaspal\, who will talk on her aims for her year in office and about the work of District 1060. \n
URL:https://www.warwickrotary.org.uk/event/club-lunchtime-meeting-5/
LOCATION:Delta Marriott\, formerly Warwick Hilton\, Stratford Road\, Warwick\, CV34 6RE
CATEGORIES:Club Lunchtime Meeting
END:VEVENT
END:VCALENDAR