BEGIN:VCALENDAR
VERSION:2.0
PRODID:-//Rotary Club Of Warwick - ECPv4.9.4//NONSGML v1.0//EN
CALSCALE:GREGORIAN
METHOD:PUBLISH
X-WR-CALNAME:Rotary Club Of Warwick
X-ORIGINAL-URL:https://www.warwickrotary.org.uk
X-WR-CALDESC:Events for Rotary Club Of Warwick
BEGIN:VTIMEZONE
TZID:"UTC"
BEGIN:STANDARD
TZOFFSETFROM:+0000
TZOFFSETTO:+0000
TZNAME:UTC
DTSTART:20190101T000000
END:STANDARD
END:VTIMEZONE
BEGIN:VEVENT
DTSTART;TZID="UTC":20190904T123000
DTEND;TZID="UTC":20190904T140000
DTSTAMP:20260422T023724
CREATED:20190729T164254Z
LAST-MODIFIED:20190729T164254Z
UID:6797-1567600200-1567605600@www.warwickrotary.org.uk
SUMMARY:Club Lunchtime Meeting
DESCRIPTION:Since last speaking to the club\, David Phillips\, a local accountant\, has completed his 5ooth Marathon\, and in the process has raised over £125\,000 for the Brain & Spine Foundation. \nBut having reached his target he just can’t stop\, and in still participating most weekends\, although he confesses that many of them are now half-marathons and run at a lot slower pace! \nHe will talk about his experiences and his favoured charity. \nHost – Richard Ashley \n
URL:https://www.warwickrotary.org.uk/event/club-lunchtime-meeting-7/
LOCATION:Delta Marriott\, formerly Warwick Hilton\, Stratford Road\, Warwick\, CV34 6RE
CATEGORIES:Club Lunchtime Meeting
END:VEVENT
END:VCALENDAR