BEGIN:VCALENDAR
VERSION:2.0
PRODID:-//Rotary Club Of Warwick - ECPv4.9.4//NONSGML v1.0//EN
CALSCALE:GREGORIAN
METHOD:PUBLISH
X-WR-CALNAME:Rotary Club Of Warwick
X-ORIGINAL-URL:https://www.warwickrotary.org.uk
X-WR-CALDESC:Events for Rotary Club Of Warwick
BEGIN:VTIMEZONE
TZID:"UTC"
BEGIN:STANDARD
TZOFFSETFROM:+0000
TZOFFSETTO:+0000
TZNAME:UTC
DTSTART:20190101T000000
END:STANDARD
END:VTIMEZONE
BEGIN:VEVENT
DTSTART;TZID="UTC":20190828T123000
DTEND;TZID="UTC":20190828T140000
DTSTAMP:20260422T054659
CREATED:20190804T140123Z
LAST-MODIFIED:20190805T084140Z
UID:6812-1566995400-1567000800@www.warwickrotary.org.uk
SUMMARY:Club Lunchtime Meeting
DESCRIPTION:John Miles from the Leatherhead Rotary Club is a Trustee of Global Sight Solutions\, which was previously known as The Guildford Rotary Eye Project which is an RIBI approved avoidable blindness programme.   The purpose of this is to provide free eye care\, such as cataract operations\, to those in India\, Africa and elsewhere who are sadly too poor to be able to access such things for themselves. \nHe will be giving a talk on the work of his charity. \n
URL:https://www.warwickrotary.org.uk/event/club-lunchtime-meeting-8/
LOCATION:Delta Marriott\, formerly Warwick Hilton\, Stratford Road\, Warwick\, CV34 6RE
CATEGORIES:Club Lunchtime Meeting
END:VEVENT
END:VCALENDAR