BEGIN:VCALENDAR
VERSION:2.0
PRODID:-//Rotary Club Of Warwick - ECPv4.9.4//NONSGML v1.0//EN
CALSCALE:GREGORIAN
METHOD:PUBLISH
X-WR-CALNAME:Rotary Club Of Warwick
X-ORIGINAL-URL:https://www.warwickrotary.org.uk
X-WR-CALDESC:Events for Rotary Club Of Warwick
BEGIN:VTIMEZONE
TZID:"UTC"
BEGIN:STANDARD
TZOFFSETFROM:+0000
TZOFFSETTO:+0000
TZNAME:UTC
DTSTART:20190101T000000
END:STANDARD
END:VTIMEZONE
BEGIN:VEVENT
DTSTART;TZID="UTC":20190918T123000
DTEND;TZID="UTC":20190918T140000
DTSTAMP:20260422T023738
CREATED:20190813T082142Z
LAST-MODIFIED:20190813T082142Z
UID:6821-1568809800-1568815200@www.warwickrotary.org.uk
SUMMARY:Club Lunchtime Meeting
DESCRIPTION:Past District Governor\, Gary Dancer\, is visiting the club \n
URL:https://www.warwickrotary.org.uk/event/club-lunchtime-meeting-9/
LOCATION:Delta Marriott\, formerly Warwick Hilton\, Stratford Road\, Warwick\, CV34 6RE
CATEGORIES:Club Lunchtime Meeting
END:VEVENT
END:VCALENDAR