BEGIN:VCALENDAR
VERSION:2.0
PRODID:-//Rotary Club Of Warwick - ECPv4.9.4//NONSGML v1.0//EN
CALSCALE:GREGORIAN
METHOD:PUBLISH
X-WR-CALNAME:Rotary Club Of Warwick
X-ORIGINAL-URL:https://www.warwickrotary.org.uk
X-WR-CALDESC:Events for Rotary Club Of Warwick
BEGIN:VTIMEZONE
TZID:"UTC"
BEGIN:STANDARD
TZOFFSETFROM:+0000
TZOFFSETTO:+0000
TZNAME:UTC
DTSTART:20160101T000000
END:STANDARD
END:VTIMEZONE
BEGIN:VEVENT
DTSTART;TZID="UTC":20161005T124500
DTEND;TZID="UTC":20161005T140000
DTSTAMP:20260423T075604
CREATED:20160806T174038Z
LAST-MODIFIED:20160806T174038Z
UID:3837-1475671500-1475676000@www.warwickrotary.org.uk
SUMMARY:Club meeting
DESCRIPTION:Each year we hold a Scholars Lunch\, to which we invite pupils and/or teachers from local schools to talk about how we can help each other. \nThis year it is the turn of the schools to talk to us and pupils from Aylesford School will tell us about overseas projects they have been involved on and with\, often with support funding from our club.   Youth Committee chairman\, John Fletcher\, will be hosting the event and introducing the pupils and staff. \n
URL:https://www.warwickrotary.org.uk/event/club-meeting-111/
LOCATION:Hilton Hotel\, Stratford Road\, Warwick\, CV34 6RE
CATEGORIES:Club Lunchtime Meeting
END:VEVENT
END:VCALENDAR