BEGIN:VCALENDAR
VERSION:2.0
PRODID:-//Rotary Club Of Warwick - ECPv4.9.4//NONSGML v1.0//EN
CALSCALE:GREGORIAN
METHOD:PUBLISH
X-WR-CALNAME:Rotary Club Of Warwick
X-ORIGINAL-URL:https://www.warwickrotary.org.uk
X-WR-CALDESC:Events for Rotary Club Of Warwick
BEGIN:VTIMEZONE
TZID:"UTC"
BEGIN:STANDARD
TZOFFSETFROM:+0000
TZOFFSETTO:+0000
TZNAME:UTC
DTSTART:20160101T000000
END:STANDARD
END:VTIMEZONE
BEGIN:VEVENT
DTSTART;TZID="UTC":20161221T124500
DTEND;TZID="UTC":20161221T141500
DTSTAMP:20260423T043234
CREATED:20161103T151013Z
LAST-MODIFIED:20161103T151245Z
UID:4043-1482324300-1482329700@www.warwickrotary.org.uk
SUMMARY:Club Meeting
DESCRIPTION:Preparing for Christmas. \nThe annual Christmas lunch will be held at our regular meeting place and invitations will be sent to all members and their families\, past and Honorary members\, friends and guests\, and of course all past members of Warwick Inner Wheel. \nThis light-hearted occasion will have musical entertainment provided by the President’s wife and some of her friends. \nFor further details please contact the Club Secretary\, or Richard Ashley on 01926 427729. \n
URL:https://www.warwickrotary.org.uk/event/club-meeting-113/
LOCATION:Delta Marriott\, formerly Warwick Hilton\, Stratford Road\, Warwick\, CV34 6RE
CATEGORIES:Club Lunchtime Meeting
END:VEVENT
END:VCALENDAR