BEGIN:VCALENDAR
VERSION:2.0
PRODID:-//Rotary Club Of Warwick - ECPv4.9.4//NONSGML v1.0//EN
CALSCALE:GREGORIAN
METHOD:PUBLISH
X-WR-CALNAME:Rotary Club Of Warwick
X-ORIGINAL-URL:https://www.warwickrotary.org.uk
X-WR-CALDESC:Events for Rotary Club Of Warwick
BEGIN:VTIMEZONE
TZID:"UTC"
BEGIN:STANDARD
TZOFFSETFROM:+0000
TZOFFSETTO:+0000
TZNAME:UTC
DTSTART:20160101T000000
END:STANDARD
END:VTIMEZONE
BEGIN:VEVENT
DTSTART;TZID="UTC":20161228T000000
DTEND;TZID="UTC":20161228T000000
DTSTAMP:20260423T044318
CREATED:20161103T151700Z
LAST-MODIFIED:20161103T151700Z
UID:4047-1482883200-1482883200@www.warwickrotary.org.uk
SUMMARY:Club Meeting
DESCRIPTION:Please note that the club will not be meeting on 28th December 2016\n
URL:https://www.warwickrotary.org.uk/event/club-meeting-114/
CATEGORIES:Club Lunchtime Meeting
END:VEVENT
END:VCALENDAR