BEGIN:VCALENDAR
VERSION:2.0
PRODID:-//Rotary Club Of Warwick - ECPv4.9.4//NONSGML v1.0//EN
CALSCALE:GREGORIAN
METHOD:PUBLISH
X-WR-CALNAME:Rotary Club Of Warwick
X-ORIGINAL-URL:https://www.warwickrotary.org.uk
X-WR-CALDESC:Events for Rotary Club Of Warwick
BEGIN:VTIMEZONE
TZID:"UTC"
BEGIN:STANDARD
TZOFFSETFROM:+0000
TZOFFSETTO:+0000
TZNAME:UTC
DTSTART:20170101T000000
END:STANDARD
END:VTIMEZONE
BEGIN:VEVENT
DTSTART;TZID="UTC":20170201T124500
DTEND;TZID="UTC":20170201T140000
DTSTAMP:20260423T043321
CREATED:20170111T102559Z
LAST-MODIFIED:20170123T181116Z
UID:4363-1485953100-1485957600@www.warwickrotary.org.uk
SUMMARY:Club Meeting
DESCRIPTION:Sarah Windrum\, a local well-known business-woman\, will address the club on the subject of up-dated technology. \nHer host will be Phil Harris. \n
URL:https://www.warwickrotary.org.uk/event/club-meeting-119/
LOCATION:Hilton
CATEGORIES:Club Lunchtime Meeting
END:VEVENT
END:VCALENDAR