BEGIN:VCALENDAR
VERSION:2.0
PRODID:-//Rotary Club Of Warwick - ECPv4.9.4//NONSGML v1.0//EN
CALSCALE:GREGORIAN
METHOD:PUBLISH
X-WR-CALNAME:Rotary Club Of Warwick
X-ORIGINAL-URL:https://www.warwickrotary.org.uk
X-WR-CALDESC:Events for Rotary Club Of Warwick
BEGIN:VTIMEZONE
TZID:"UTC"
BEGIN:STANDARD
TZOFFSETFROM:+0000
TZOFFSETTO:+0000
TZNAME:UTC
DTSTART:20170101T000000
END:STANDARD
END:VTIMEZONE
BEGIN:VEVENT
DTSTART;TZID="UTC":20170215T124500
DTEND;TZID="UTC":20170215T140000
DTSTAMP:20260423T025638
CREATED:20170111T103341Z
LAST-MODIFIED:20170123T181257Z
UID:4367-1487162700-1487167200@www.warwickrotary.org.uk
SUMMARY:Club Meeting
DESCRIPTION:The speaker today will be Jen Boilested\, who will talk about The Brain Tumour charity. \n  \nAlan Bailey will act as her host. \n  \n  \n  \n
URL:https://www.warwickrotary.org.uk/event/club-meeting-121/
LOCATION:Delta Marriott\, formerly Warwick Hilton\, Stratford Road\, Warwick\, CV34 6RE
CATEGORIES:Club Lunchtime Meeting
END:VEVENT
END:VCALENDAR