BEGIN:VCALENDAR
VERSION:2.0
PRODID:-//Rotary Club Of Warwick - ECPv4.9.4//NONSGML v1.0//EN
CALSCALE:GREGORIAN
METHOD:PUBLISH
X-WR-CALNAME:Rotary Club Of Warwick
X-ORIGINAL-URL:https://www.warwickrotary.org.uk
X-WR-CALDESC:Events for Rotary Club Of Warwick
BEGIN:VTIMEZONE
TZID:"UTC"
BEGIN:STANDARD
TZOFFSETFROM:+0000
TZOFFSETTO:+0000
TZNAME:UTC
DTSTART:20170101T000000
END:STANDARD
END:VTIMEZONE
BEGIN:VEVENT
DTSTART;TZID="UTC":20170301T124500
DTEND;TZID="UTC":20170301T140000
DTSTAMP:20260423T025639
CREATED:20170117T113602Z
LAST-MODIFIED:20170130T125840Z
UID:4373-1488372300-1488376800@www.warwickrotary.org.uk
SUMMARY:Club Meeting
DESCRIPTION:St. David’s Day. \nThe speaker for this meeting is Matthew Hammond\, who will talk about The Children’s Hyperinsulinism Charity which is very close to the heart of this year’s Club president\, John Taylor\, who has named it as one of his charities for the year. \nSee the web site \n  \nJohn will be in the chair and will also act as host to the speaker. \n
URL:https://www.warwickrotary.org.uk/event/club-meeting-123/
LOCATION:Delta Marriott\, formerly Warwick Hilton\, Stratford Road\, Warwick\, CV34 6RE
CATEGORIES:Club Lunchtime Meeting
END:VEVENT
END:VCALENDAR