BEGIN:VCALENDAR
VERSION:2.0
PRODID:-//Rotary Club Of Warwick - ECPv4.9.4//NONSGML v1.0//EN
CALSCALE:GREGORIAN
METHOD:PUBLISH
X-WR-CALNAME:Rotary Club Of Warwick
X-ORIGINAL-URL:https://www.warwickrotary.org.uk
X-WR-CALDESC:Events for Rotary Club Of Warwick
BEGIN:VTIMEZONE
TZID:"UTC"
BEGIN:STANDARD
TZOFFSETFROM:+0000
TZOFFSETTO:+0000
TZNAME:UTC
DTSTART:20170101T000000
END:STANDARD
END:VTIMEZONE
BEGIN:VEVENT
DTSTART;TZID="UTC":20170308T120000
DTEND;TZID="UTC":20170308T140000
DTSTAMP:20260423T025531
CREATED:20170123T182424Z
LAST-MODIFIED:20170123T182529Z
UID:4473-1488974400-1488981600@www.warwickrotary.org.uk
SUMMARY:Club Meeting
DESCRIPTION:Today’s meeting will be a closed meeting for members. \nStarting at 12 noon it will take the form of a discussion seminar led by Past District Governor and RI Assistant Rotary Coordinator (Zone 17) Steve Cartwright and will deal with the subject of Club Visioning. \nThere will be a break for lunch at 1pm\, and the meeting will then continue to a 2pm finish. \n
URL:https://www.warwickrotary.org.uk/event/club-meeting-125/
LOCATION:Delta Marriott\, formerly Warwick Hilton\, Stratford Road\, Warwick\, CV34 6RE
CATEGORIES:Club Lunchtime Meeting
END:VEVENT
END:VCALENDAR