BEGIN:VCALENDAR
VERSION:2.0
PRODID:-//Rotary Club Of Warwick - ECPv4.9.4//NONSGML v1.0//EN
CALSCALE:GREGORIAN
METHOD:PUBLISH
X-WR-CALNAME:Rotary Club Of Warwick
X-ORIGINAL-URL:https://www.warwickrotary.org.uk
X-WR-CALDESC:Events for Rotary Club Of Warwick
BEGIN:VTIMEZONE
TZID:"UTC"
BEGIN:STANDARD
TZOFFSETFROM:+0000
TZOFFSETTO:+0000
TZNAME:UTC
DTSTART:20170101T000000
END:STANDARD
END:VTIMEZONE
BEGIN:VEVENT
DTSTART;TZID="UTC":20170412T124500
DTEND;TZID="UTC":20170412T140000
DTSTAMP:20260423T043158
CREATED:20170331T071505Z
LAST-MODIFIED:20170331T073035Z
UID:4679-1492001100-1492005600@www.warwickrotary.org.uk
SUMMARY:Club Meeting
DESCRIPTION:Jack Linstead will speak to the club.   He is pro-active with Health Champions as well as being a behaviour change\, marketing and communications specialist\, often focussing on the healthy! \nHis other interests include festival planning\, being a dad\, rugby\, running and ne is also a triathlon fan! \n
URL:https://www.warwickrotary.org.uk/event/club-meeting-128/
LOCATION:Hilton Hotel\, Stratford Road\, Warwick\, CV34 6RE
CATEGORIES:Club Lunchtime Meeting
END:VEVENT
END:VCALENDAR