BEGIN:VCALENDAR
VERSION:2.0
PRODID:-//Rotary Club Of Warwick - ECPv4.9.4//NONSGML v1.0//EN
CALSCALE:GREGORIAN
METHOD:PUBLISH
X-WR-CALNAME:Rotary Club Of Warwick
X-ORIGINAL-URL:https://www.warwickrotary.org.uk
X-WR-CALDESC:Events for Rotary Club Of Warwick
BEGIN:VTIMEZONE
TZID:"UTC"
BEGIN:STANDARD
TZOFFSETFROM:+0000
TZOFFSETTO:+0000
TZNAME:UTC
DTSTART:20170101T000000
END:STANDARD
END:VTIMEZONE
BEGIN:VEVENT
DTSTART;TZID="UTC":20170531T124500
DTEND;TZID="UTC":20170531T140000
DTSTAMP:20260423T012506
CREATED:20170417T112130Z
LAST-MODIFIED:20170523T135137Z
UID:4773-1496234700-1496239200@www.warwickrotary.org.uk
SUMMARY:Club Meeting
DESCRIPTION:A young lad from Aylesford School\, William Attreed\, will talk to members about his successes in the world of Go –Karting \nPlease note that although this is the 5th Wednesday in the month\, the meeting will be held at lunchtime – 12.45pm\n  \n
URL:https://www.warwickrotary.org.uk/event/club-meeting-135/
LOCATION:Delta Marriott\, formerly Warwick Hilton\, Stratford Road\, Warwick\, CV34 6RE
CATEGORIES:Club Lunchtime Meeting
END:VEVENT
END:VCALENDAR