BEGIN:VCALENDAR
VERSION:2.0
PRODID:-//Rotary Club Of Warwick - ECPv4.9.4//NONSGML v1.0//EN
CALSCALE:GREGORIAN
METHOD:PUBLISH
X-WR-CALNAME:Rotary Club Of Warwick
X-ORIGINAL-URL:https://www.warwickrotary.org.uk
X-WR-CALDESC:Events for Rotary Club Of Warwick
BEGIN:VTIMEZONE
TZID:"UTC"
BEGIN:STANDARD
TZOFFSETFROM:+0000
TZOFFSETTO:+0000
TZNAME:UTC
DTSTART:20170101T000000
END:STANDARD
END:VTIMEZONE
BEGIN:VEVENT
DTSTART;TZID="UTC":20170607T124500
DTEND;TZID="UTC":20170607T140000
DTSTAMP:20260423T012628
CREATED:20170524T160042Z
LAST-MODIFIED:20170524T160111Z
UID:4811-1496839500-1496844000@www.warwickrotary.org.uk
SUMMARY:Club Meeting
DESCRIPTION:Cath Errington will address the club about the work of the charity MENCAP. \n
URL:https://www.warwickrotary.org.uk/event/club-meeting-136/
LOCATION:Delta Marriott\, formerly Warwick Hilton\, Stratford Road\, Warwick\, CV34 6RE
END:VEVENT
END:VCALENDAR