BEGIN:VCALENDAR
VERSION:2.0
PRODID:-//Rotary Club Of Warwick - ECPv4.9.4//NONSGML v1.0//EN
CALSCALE:GREGORIAN
METHOD:PUBLISH
X-WR-CALNAME:Rotary Club Of Warwick
X-ORIGINAL-URL:https://www.warwickrotary.org.uk
X-WR-CALDESC:Events for Rotary Club Of Warwick
BEGIN:VTIMEZONE
TZID:"UTC"
BEGIN:STANDARD
TZOFFSETFROM:+0000
TZOFFSETTO:+0000
TZNAME:UTC
DTSTART:20150101T000000
END:STANDARD
END:VTIMEZONE
BEGIN:VEVENT
DTSTART;TZID="UTC":20150107T124000
DTEND;TZID="UTC":20150107T140000
DTSTAMP:20260423T221448
CREATED:20140610T070549Z
LAST-MODIFIED:20141122T115323Z
UID:1550-1420634400-1420639200@www.warwickrotary.org.uk
SUMMARY:Club Meeting
DESCRIPTION:The speaker\, David Everett\, of Coventry Mazda\, will talk on the subject of ‘Motors’. \nThe host is Ron Flint \n
URL:https://www.warwickrotary.org.uk/event/club-meeting-14/
CATEGORIES:Club Lunchtime Meeting
END:VEVENT
END:VCALENDAR