BEGIN:VCALENDAR
VERSION:2.0
PRODID:-//Rotary Club Of Warwick - ECPv4.9.4//NONSGML v1.0//EN
CALSCALE:GREGORIAN
METHOD:PUBLISH
X-WR-CALNAME:Rotary Club Of Warwick
X-ORIGINAL-URL:https://www.warwickrotary.org.uk
X-WR-CALDESC:Events for Rotary Club Of Warwick
BEGIN:VTIMEZONE
TZID:"UTC"
BEGIN:STANDARD
TZOFFSETFROM:+0000
TZOFFSETTO:+0000
TZNAME:UTC
DTSTART:20170101T000000
END:STANDARD
END:VTIMEZONE
BEGIN:VEVENT
DTSTART;TZID="UTC":20170712T124500
DTEND;TZID="UTC":20170712T140000
DTSTAMP:20260423T011736
CREATED:20170710T085400Z
LAST-MODIFIED:20170710T090654Z
UID:4953-1499863500-1499868000@www.warwickrotary.org.uk
SUMMARY:Club Meeting
DESCRIPTION:A talk by Heidi Mayer\, the Master of the Lord Leycester Hospital in Warwick. \nThe Lord Leycester Hospital is a retirement home for ex-Servicemen in Warwick that is located next to the West Gate\, on High Street. The Hospital comprises the medieval Chapel of St James the Great\, living quarters\, a Guildhall and a Great Hall. Also contained within the establishment are the Master’s Garden and the Museum of the Queen’s Own Hussars\, which is currently closed.   The hospital is a grade I listed building. \n \n  \n
URL:https://www.warwickrotary.org.uk/event/club-meeting-140/
LOCATION:Delta Marriott\, formerly Warwick Hilton\, Stratford Road\, Warwick\, CV34 6RE
CATEGORIES:Club Lunchtime Meeting
END:VEVENT
END:VCALENDAR