BEGIN:VCALENDAR
VERSION:2.0
PRODID:-//Rotary Club Of Warwick - ECPv4.9.4//NONSGML v1.0//EN
CALSCALE:GREGORIAN
METHOD:PUBLISH
X-WR-CALNAME:Rotary Club Of Warwick
X-ORIGINAL-URL:https://www.warwickrotary.org.uk
X-WR-CALDESC:Events for Rotary Club Of Warwick
BEGIN:VTIMEZONE
TZID:"UTC"
BEGIN:STANDARD
TZOFFSETFROM:+0000
TZOFFSETTO:+0000
TZNAME:UTC
DTSTART:20170101T000000
END:STANDARD
END:VTIMEZONE
BEGIN:VEVENT
DTSTART;TZID="UTC":20171122T124500
DTEND;TZID="UTC":20171122T140000
DTSTAMP:20260422T201515
CREATED:20170822T144532Z
LAST-MODIFIED:20170822T144532Z
UID:5115-1511354700-1511359200@www.warwickrotary.org.uk
SUMMARY:Club Meeting
DESCRIPTION:Counc. Alan Boad\, Chairman of Warwick District Council\, and Counc. Stephen Cross\, Mayor of Warwick\, together with a senior officer from their respective councils\, join members of the club for the annual Civic Lunch. \nThis is an excellent opportunity for the senior dignitaries of the two local bodies to meet our club members for a frank exchange of views. \n
URL:https://www.warwickrotary.org.uk/event/club-meeting-156/
LOCATION:Delta Marriott\, formerly Warwick Hilton\, Stratford Road\, Warwick\, CV34 6RE
CATEGORIES:Club Lunchtime Meeting
END:VEVENT
END:VCALENDAR