BEGIN:VCALENDAR
VERSION:2.0
PRODID:-//Rotary Club Of Warwick - ECPv4.9.4//NONSGML v1.0//EN
CALSCALE:GREGORIAN
METHOD:PUBLISH
X-WR-CALNAME:Rotary Club Of Warwick
X-ORIGINAL-URL:https://www.warwickrotary.org.uk
X-WR-CALDESC:Events for Rotary Club Of Warwick
BEGIN:VTIMEZONE
TZID:"UTC"
BEGIN:STANDARD
TZOFFSETFROM:+0000
TZOFFSETTO:+0000
TZNAME:UTC
DTSTART:20170101T000000
END:STANDARD
END:VTIMEZONE
BEGIN:VEVENT
DTSTART;TZID="UTC":20171108T124500
DTEND;TZID="UTC":20171108T140000
DTSTAMP:20260422T213252
CREATED:20170901T142855Z
LAST-MODIFIED:20171101T162841Z
UID:5119-1510145100-1510149600@www.warwickrotary.org.uk
SUMMARY:Club Meeting
DESCRIPTION:Lynne Barton from the Entrust Care Partnership will speak to the club after lunch. \nLynne Barton is by profession a qualified teacher and has worked extensively in the public  sector in Education\, Health and more latterly an integrated multi‐agency service. She has  worked in the Voluntary Sector\, with the playgroup movement whilst her three children  were small\, and in later years in a Director capacity with a National Charity supporting  disabled children\, young people and their families. \n  \nEntrust Care Partnership. \nThis not for profit organisation works with disabled children\, young people\, adults and their families in supplying a range of short breaks\, counselling\, training and one to one support. \n  \nEntrust Care Partnerships’ Vision is:\nTo meet the needs of disabled children\, young people\, adults and their families and carers through the provision of short break activities\, care\, support\, training advice and brokerage tailoring services which are bespoke to the individual. \n  \n
URL:https://www.warwickrotary.org.uk/event/club-meeting-157/
LOCATION:Delta Marriott\, formerly Warwick Hilton\, Stratford Road\, Warwick\, CV34 6RE
CATEGORIES:Club Lunchtime Meeting
END:VEVENT
END:VCALENDAR