BEGIN:VCALENDAR
VERSION:2.0
PRODID:-//Rotary Club Of Warwick - ECPv4.9.4//NONSGML v1.0//EN
CALSCALE:GREGORIAN
METHOD:PUBLISH
X-WR-CALNAME:Rotary Club Of Warwick
X-ORIGINAL-URL:https://www.warwickrotary.org.uk
X-WR-CALDESC:Events for Rotary Club Of Warwick
BEGIN:VTIMEZONE
TZID:"UTC"
BEGIN:STANDARD
TZOFFSETFROM:+0000
TZOFFSETTO:+0000
TZNAME:UTC
DTSTART:20170101T000000
END:STANDARD
END:VTIMEZONE
BEGIN:VEVENT
DTSTART;TZID="UTC":20171115T124500
DTEND;TZID="UTC":20171115T140000
DTSTAMP:20260422T201344
CREATED:20170901T143452Z
LAST-MODIFIED:20170901T143452Z
UID:5121-1510749900-1510754400@www.warwickrotary.org.uk
SUMMARY:Club Meeting
DESCRIPTION:At our meeting today\, Siobhan Allen from Nat West Bank will talk on the interesting subject of ‘Fraud’. \n
URL:https://www.warwickrotary.org.uk/event/club-meeting-158/
LOCATION:Hilton Hotel\, Stratford Road\, Warwick\, CV34 6RE
CATEGORIES:Club Lunchtime Meeting
END:VEVENT
END:VCALENDAR