BEGIN:VCALENDAR
VERSION:2.0
PRODID:-//Rotary Club Of Warwick - ECPv4.9.4//NONSGML v1.0//EN
CALSCALE:GREGORIAN
METHOD:PUBLISH
X-WR-CALNAME:Rotary Club Of Warwick
X-ORIGINAL-URL:https://www.warwickrotary.org.uk
X-WR-CALDESC:Events for Rotary Club Of Warwick
BEGIN:VTIMEZONE
TZID:"UTC"
BEGIN:STANDARD
TZOFFSETFROM:+0000
TZOFFSETTO:+0000
TZNAME:UTC
DTSTART:20180101T000000
END:STANDARD
END:VTIMEZONE
BEGIN:VEVENT
DTSTART;TZID="UTC":20180124T124500
DTEND;TZID="UTC":20180124T140000
DTSTAMP:20260422T201634
CREATED:20180112T170109Z
LAST-MODIFIED:20180112T170109Z
UID:5399-1516797900-1516802400@www.warwickrotary.org.uk
SUMMARY:Club Meeting
DESCRIPTION:Todays meeting will be the monthly Business Meeting. \n
URL:https://www.warwickrotary.org.uk/event/club-meeting-160/
LOCATION:Hilton Hotel\, Stratford Road\, Warwick\, CV34 6RE
CATEGORIES:Club Lunchtime Meeting
END:VEVENT
END:VCALENDAR