BEGIN:VCALENDAR
VERSION:2.0
PRODID:-//Rotary Club Of Warwick - ECPv4.9.4//NONSGML v1.0//EN
CALSCALE:GREGORIAN
METHOD:PUBLISH
X-WR-CALNAME:Rotary Club Of Warwick
X-ORIGINAL-URL:https://www.warwickrotary.org.uk
X-WR-CALDESC:Events for Rotary Club Of Warwick
BEGIN:VTIMEZONE
TZID:"UTC"
BEGIN:STANDARD
TZOFFSETFROM:+0000
TZOFFSETTO:+0000
TZNAME:UTC
DTSTART:20180101T000000
END:STANDARD
END:VTIMEZONE
BEGIN:VEVENT
DTSTART;TZID="UTC":20180207T124500
DTEND;TZID="UTC":20180207T140000
DTSTAMP:20260422T183926
CREATED:20180203T113401Z
LAST-MODIFIED:20180203T113401Z
UID:5433-1518007500-1518012000@www.warwickrotary.org.uk
SUMMARY:Club Meeting
DESCRIPTION:At today’s meeting\, Robin Kenward will talk about the work of Remap. \nRemap is a national charity that works through local groups of skilled volunteers.  They help disabled people achieve independence and a better quality of life by designing and making equipment for their individual needs. \n
URL:https://www.warwickrotary.org.uk/event/club-meeting-162/
LOCATION:Delta Marriott\, formerly Warwick Hilton\, Stratford Road\, Warwick\, CV34 6RE
CATEGORIES:Club Lunchtime Meeting
END:VEVENT
END:VCALENDAR