BEGIN:VCALENDAR
VERSION:2.0
PRODID:-//Rotary Club Of Warwick - ECPv4.9.4//NONSGML v1.0//EN
CALSCALE:GREGORIAN
METHOD:PUBLISH
X-WR-CALNAME:Rotary Club Of Warwick
X-ORIGINAL-URL:https://www.warwickrotary.org.uk
X-WR-CALDESC:Events for Rotary Club Of Warwick
BEGIN:VTIMEZONE
TZID:"UTC"
BEGIN:STANDARD
TZOFFSETFROM:+0000
TZOFFSETTO:+0000
TZNAME:UTC
DTSTART:20180101T000000
END:STANDARD
END:VTIMEZONE
BEGIN:VEVENT
DTSTART;TZID="UTC":20180214T124500
DTEND;TZID="UTC":20180214T140000
DTSTAMP:20260422T184109
CREATED:20180203T113652Z
LAST-MODIFIED:20180203T113652Z
UID:5435-1518612300-1518616800@www.warwickrotary.org.uk
SUMMARY:Club Meeting
DESCRIPTION:Club member and Past President Philip Harris will give a talk entitled – ‘An unexpected encounter’. \n
URL:https://www.warwickrotary.org.uk/event/club-meeting-163/
LOCATION:Hilton Hotel\, Stratford Road\, Warwick\, CV34 6RE
CATEGORIES:Club Lunchtime Meeting
END:VEVENT
END:VCALENDAR