BEGIN:VCALENDAR
VERSION:2.0
PRODID:-//Rotary Club Of Warwick - ECPv4.9.4//NONSGML v1.0//EN
CALSCALE:GREGORIAN
METHOD:PUBLISH
X-WR-CALNAME:Rotary Club Of Warwick
X-ORIGINAL-URL:https://www.warwickrotary.org.uk
X-WR-CALDESC:Events for Rotary Club Of Warwick
BEGIN:VTIMEZONE
TZID:"UTC"
BEGIN:STANDARD
TZOFFSETFROM:+0000
TZOFFSETTO:+0000
TZNAME:UTC
DTSTART:20180101T000000
END:STANDARD
END:VTIMEZONE
BEGIN:VEVENT
DTSTART;TZID="UTC":20180404T124500
DTEND;TZID="UTC":20180404T140000
DTSTAMP:20260422T184020
CREATED:20180331T083612Z
LAST-MODIFIED:20180331T083612Z
UID:5549-1522845900-1522850400@www.warwickrotary.org.uk
SUMMARY:Club Meeting
DESCRIPTION:This week the speaker will be Colin Sullivan who will talk to members about the work of the Air Ambulance. \n
URL:https://www.warwickrotary.org.uk/event/club-meeting-166/
LOCATION:Delta Marriott\, formerly Warwick Hilton\, Stratford Road\, Warwick\, CV34 6RE
CATEGORIES:Club Lunchtime Meeting
END:VEVENT
END:VCALENDAR