BEGIN:VCALENDAR
VERSION:2.0
PRODID:-//Rotary Club Of Warwick - ECPv4.9.4//NONSGML v1.0//EN
CALSCALE:GREGORIAN
METHOD:PUBLISH
X-WR-CALNAME:Rotary Club Of Warwick
X-ORIGINAL-URL:https://www.warwickrotary.org.uk
X-WR-CALDESC:Events for Rotary Club Of Warwick
BEGIN:VTIMEZONE
TZID:"UTC"
BEGIN:STANDARD
TZOFFSETFROM:+0000
TZOFFSETTO:+0000
TZNAME:UTC
DTSTART:20180101T000000
END:STANDARD
END:VTIMEZONE
BEGIN:VEVENT
DTSTART;TZID="UTC":20180411T124500
DTEND;TZID="UTC":20180411T140000
DTSTAMP:20260422T183038
CREATED:20180331T090233Z
LAST-MODIFIED:20180331T090233Z
UID:5551-1523450700-1523455200@www.warwickrotary.org.uk
SUMMARY:Club Meeting
DESCRIPTION:Graham Fulford from the Graham Fulford Charitable Trust will talk about the very topical and highly important subject of Prostate Screen Analysis. \nSince the trust was founded\, over 80\,000 tests have been carried out in order to detect early signs of Prostate Cancer\, and early diagnosis is the best way to tackle this dreadful complaint. \nGraham will talk about the work of his charitable trust and of the need to maintain the momentum. \nGuests are invited to join us but please contact the club beforehand to reserve a place. \nFor further information visit this site \n
URL:https://www.warwickrotary.org.uk/event/club-meeting-167/
LOCATION:Delta Marriott\, formerly Warwick Hilton\, Stratford Road\, Warwick\, CV34 6RE
CATEGORIES:Club Lunchtime Meeting
END:VEVENT
END:VCALENDAR