BEGIN:VCALENDAR
VERSION:2.0
PRODID:-//Rotary Club Of Warwick - ECPv4.9.4//NONSGML v1.0//EN
CALSCALE:GREGORIAN
METHOD:PUBLISH
X-WR-CALNAME:Rotary Club Of Warwick
X-ORIGINAL-URL:https://www.warwickrotary.org.uk
X-WR-CALDESC:Events for Rotary Club Of Warwick
BEGIN:VTIMEZONE
TZID:"UTC"
BEGIN:STANDARD
TZOFFSETFROM:+0000
TZOFFSETTO:+0000
TZNAME:UTC
DTSTART:20150101T000000
END:STANDARD
END:VTIMEZONE
BEGIN:VEVENT
DTSTART;TZID="UTC":20150204T124500
DTEND;TZID="UTC":20150204T140000
DTSTAMP:20260423T221411
CREATED:20150105T153218Z
LAST-MODIFIED:20150105T153302Z
UID:1997-1423053900-1423058400@www.warwickrotary.org.uk
SUMMARY:Club Meeting
DESCRIPTION:A talk will be given by Delia Button on ‘The Samaritans’.    The host will be Roy Glassborow \n
URL:https://www.warwickrotary.org.uk/event/club-meeting-17/
LOCATION:Delta Marriott\, formerly Warwick Hilton\, Stratford Road\, Warwick\, CV34 6RE
CATEGORIES:Club Lunchtime Meeting
END:VEVENT
END:VCALENDAR