BEGIN:VCALENDAR
VERSION:2.0
PRODID:-//Rotary Club Of Warwick - ECPv4.9.4//NONSGML v1.0//EN
CALSCALE:GREGORIAN
METHOD:PUBLISH
X-WR-CALNAME:Rotary Club Of Warwick
X-ORIGINAL-URL:https://www.warwickrotary.org.uk
X-WR-CALDESC:Events for Rotary Club Of Warwick
BEGIN:VTIMEZONE
TZID:"UTC"
BEGIN:STANDARD
TZOFFSETFROM:+0000
TZOFFSETTO:+0000
TZNAME:UTC
DTSTART:20180101T000000
END:STANDARD
END:VTIMEZONE
BEGIN:VEVENT
DTSTART;TZID="UTC":20180516T124500
DTEND;TZID="UTC":20180516T140000
DTSTAMP:20260422T170506
CREATED:20180408T071738Z
LAST-MODIFIED:20180408T071806Z
UID:5577-1526474700-1526479200@www.warwickrotary.org.uk
SUMMARY:Club Meeting
DESCRIPTION:Today’s speaker will be Gareth Sands\, Prison Governer at Hewell Prison\, Worcestershire. \nHMP Hewell was officially opened on 25 June 2008. This site forms the Local function of the group holding remand\, (including Potential Cat A prisoners) sentenced and Vulnerable Prisoners. The units are purpose-built modern accommodation built to the ‘Bullingdon’ design. \n
URL:https://www.warwickrotary.org.uk/event/club-meeting-172/
LOCATION:Hilton Hotel\, Stratford Road\, Warwick\, CV34 6RE
CATEGORIES:Club Lunchtime Meeting
END:VEVENT
END:VCALENDAR